BEGIN:VCALENDAR
VERSION:2.0
PRODID:-//Creativas Galegas - ECPv6.3.3.1//NONSGML v1.0//EN
CALSCALE:GREGORIAN
METHOD:PUBLISH
X-ORIGINAL-URL:https://creativasgalegas.gal
X-WR-CALDESC:Events for Creativas Galegas
REFRESH-INTERVAL;VALUE=DURATION:PT1H
X-Robots-Tag:noindex
X-PUBLISHED-TTL:PT1H
BEGIN:VTIMEZONE
TZID:Europe/Paris
BEGIN:DAYLIGHT
TZOFFSETFROM:+0100
TZOFFSETTO:+0200
TZNAME:CEST
DTSTART:20220327T010000
END:DAYLIGHT
BEGIN:STANDARD
TZOFFSETFROM:+0200
TZOFFSETTO:+0100
TZNAME:CET
DTSTART:20221030T010000
END:STANDARD
TZID:UTC
BEGIN:STANDARD
TZOFFSETFROM:+0000
TZOFFSETTO:+0000
TZNAME:UTC
DTSTART:20210101T000000
END:STANDARD
END:VTIMEZONE
BEGIN:VEVENT
DTSTART;TZID=Europe/Paris:20220329T160000
DTEND;TZID=Europe/Paris:20220330T200000
DTSTAMP:20260423T073430
CREATED:20220316T214746Z
LAST-MODIFIED:20220316T214746Z
UID:10000090-1648569600-1648670400@creativasgalegas.gal
SUMMARY:Taller de vainicas e calados _ Nobelo a nobelo
DESCRIPTION:María Gaiteiro é a artesá que está detrás da marca de moda e deseño\, Nobelo a nobelo. \nMaría quere poñer a proba as nosas destrezas coas agullas a través destas técnicas decorativas do téxtil\, as vainicas e os calados. Se algo require este tipo de bordados son moita pacienciencia así que\, temos 8 horas de taller repartidos en dúas xornadas para ver que tal se nos dá este traballo artesanal. \nTraballaremos con tecidos de trama regular para facerlle un desfilado que logo anudaremos en vainicas ou cadrados e despois encheremos con nós e zurcidos. Elaboramos así espazos abertos na superficie da tela para crear patróns decorativos. \nTela\, tesoiras\, fío e agulla serán as nosas ferramentas. Queres poñer a proba a túa paciencia? \nActividade: Taller de vainicas e calados\nAutora: María Gaiteiro\nMarca: Nobelo a nobelo\nLugar: Mercado Galego da Creatividade\nData: 29 e 30 de marzo\nHorario: 16:00 – 20:00 h \nReserva a túa praza chamando ao teléfono: 881 307 352 \nInstagram: @nobelo_a_nobelo\nFacebook: @nobelotecidos \n@artesania_de_galicia\n@xuntadegalicia\n@camino_xacobeo \n#creativasgalegas #mercadodacreatividade #artesania #diaseuropeosdelaartesania #artesaniagalicia #santiagodecompostela \n  \n     \n 
URL:https://creativasgalegas.gal/evento/taller-de-vainicas-e-calados-_-nobelo-a-nobelo/
CATEGORIES:Talleres
ATTACH;FMTTYPE=image/jpeg:https://creativasgalegas.gal/wp-content/uploads/2022/03/taller_dias_europeos_2.1.jpg
END:VEVENT
BEGIN:VEVENT
DTSTART;TZID=Europe/Paris:20220328T163000
DTEND;TZID=Europe/Paris:20220328T200000
DTSTAMP:20260423T073430
CREATED:20220317T150057Z
LAST-MODIFIED:20220317T150057Z
UID:10000089-1648485000-1648497600@creativasgalegas.gal
SUMMARY:Taller de feltrado da lá _ As Bolboretas
DESCRIPTION:Nesta demostración ensinaremos a facer un pequeno maceteiro de lá coa técnica do feltrado húmido. \nBeatriz ensinaranos a darlle forma mediante un molde e posteriormente volume. A única ferramenta que usaremos serán as nosas propias mans e súper poder do xabón e da auga. Lá\, auga\, xabón\, panos\, cuncas\, tul\, plástico de burbulla\, papel e periódico e moitas\, moitas ganas de pasar un momento agradable creando\, son as ferramentas aliadas para este taller. \nAconsellamos traer un mandil para participar na formación e non mancharnos. \nE si queredes coñecer o proxecto de Beatriz\, podedes atopalo baixo a marca As Bolboretas\, e ata vos atoparedes coa imaxe das alpacas que ela mesma cría… \nActividade: Taller de feltrado húmido da lá\nAutora: Beatriz Iglesias\nMarca: As Bolboretas\nLugar: Mercado Galego da Creatividade\nData: 28 de marzo\nHorarios e sesións: \n\n16:30 – 18:00 h\n18:30 – 20:00 h\n\nReserva a túa praza\, na sesión que mellor se che axeite\, chamando ao teléfono: 881 307 352 \n  \nInstagram: @mejorseviveenelcampo\nFacebook: @Bea Iglesias Alpacas As Bolboretas \n@artesania_de_galicia\n@xuntadegalicia\n@camino_xacobeo \n#creativasgalegas #mercadodacreatividade #artesania #diaseuropeosdelaartesania #artesaniagalicia #santiagodecompostela \n  \n \n 
URL:https://creativasgalegas.gal/evento/taller-de-feltrado-da-la-_-as-bolboretas/
CATEGORIES:Talleres
ATTACH;FMTTYPE=image/jpeg:https://creativasgalegas.gal/wp-content/uploads/2022/03/taller_dias_europeos_1.0.jpg
END:VEVENT
BEGIN:VEVENT
DTSTART;TZID=Europe/Paris:20220205T163000
DTEND;TZID=Europe/Paris:20220205T203000
DTSTAMP:20260423T073430
CREATED:20220120T163933Z
LAST-MODIFIED:20220120T163933Z
UID:10000082-1644078600-1644093000@creativasgalegas.gal
SUMMARY:Taller de pintura _ Lúa
DESCRIPTION:Taller de pintura impartido por Lúa: \nPara amantes da arte\, e aquelas persoas que desexan experimentar e sacar a artista que levan dentro\, o sábado\, día 5 de febreiro\, temos un taller artístico no Mercado Galego da Creatividade (Rúa da Caldeirería – 36\, Santiago de Compostela).\nDálle renda solta á túa creatividade e goza dos beneficios que achega ao benestar o proceso creativo. \nLúa Gándara (O Porriño\, 1988)\, é unha artista multidisciplinar graduada en Belas Artes pola Universidade de Vigo. Lúa ten un posgrao de Creación Sonora na Universidade de Barcelona e un máster en Profesorado de Educación Secundaria na especialidade de Artes e Debuxo. \nA pintura é unha disciplina que nos permite coñecernos xogando\, explorando emocións e relacionándonos coa nosa contorna e cos demais. A través da cor iremos explorando novos mundos inventados\, deixándonos levar a lugares insospeitados. Neste taller de pintura traballaremos técnicas mixtas sobre papel\, aprenderemos nocións básicas de cor e composición\, e sobre todo\, divertirémonos. \nNon se necesitan coñecementos previos. Ao final\, poderaste levar á casa un recordo moi especial para alegrar o teu fogar.\nMergúllache no proceso de creación dunha artista contemporánea e ven a vivir unha experiencia diferente! \n  \nActividade: taller de pintura\nAutora: Lúa\nLugar: Mercado Galego da Creatividade\nData: 5 de febreiro\nHorario: 16:30 – 20:30 h\nPrezo: 60 € ( 55 € para as marcas do colectivo usando o código de desconto ) \nMerca o teu taller aquí Mercar
URL:https://creativasgalegas.gal/evento/taller-de-lua/
CATEGORIES:Talleres
ATTACH;FMTTYPE=image/png:https://creativasgalegas.gal/wp-content/uploads/2022/01/talleres-CG4.png
END:VEVENT
BEGIN:VEVENT
DTSTART;TZID=Europe/Paris:20220102T170000
DTEND;TZID=Europe/Paris:20220102T193000
DTSTAMP:20260423T073430
CREATED:20211227T161434Z
LAST-MODIFIED:20211227T161434Z
UID:10000078-1641142800-1641151800@creativasgalegas.gal
SUMMARY:Escaparate Vivente de blockprinting _ amorote printing workshop
DESCRIPTION:Gústache afondar nas técnicas de estampación artesanais? Gustaríache coñecelas para estampar os teus propios deseños? \nA persoa que necesitas coñecer é a Sandra de amorote printing workshop. A través deste Escaparate ensinaranos a técnica do blockprintin\, unha das formas de estampación mais antigas. Sandra vai crear un selo que nos permitirá logo estampar unha tea a dúas cores. O resultado final será un coxín\, un camiño de mesa ou o que a imaxinación nos pida. \nCreamos peciñas personalizadas con moito agarimo. \nActividade: Escaparate Vivente de blockprinting\nAutora: Sandra de Rego\nMarca: amorote printing workshop\nLugar: Mercado Galego da Creatividade\nData: 2 de xaneiro\nHorario: 17:00 – 19:30 h \n  \n@artesania_de_galicia\n@xuntagalicia\n@_xacobeo2021 \n#creativasgalegas #amorote #mercadodacreatividade #estampacion #mercadogalegodacreatividade #escaparatevivente #artesania #blockprinting #artesaniadegalicia
URL:https://creativasgalegas.gal/evento/escaparate-vivente-amorote/
CATEGORIES:Talleres
ATTACH;FMTTYPE=image/jpeg:https://creativasgalegas.gal/wp-content/uploads/2021/12/Cartel_Axenda-amorote.jpg
END:VEVENT
BEGIN:VEVENT
DTSTART;TZID=UTC:20211213T180000
DTEND;TZID=UTC:20211213T200000
DTSTAMP:20260423T073430
CREATED:20211211T153340Z
LAST-MODIFIED:20211211T153340Z
UID:10000071-1639418400-1639425600@creativasgalegas.gal
SUMMARY:Taller de xoiaría _ Noga Art´s
DESCRIPTION:Podemos mercar unha xoia para agasallar ou elaborala coas nosas mans. \nAprenderemos a fabricar xoias\, con contas de diferentes cores\,  entre outros materiais que nos vai propoñer a propia Adriana da firma Noga Art´s. Seguro que non é unha tarefa fácil\, mais coa axuda desta xoieira con tantos anos de experiencia ás súas costas…\, todo parece mais sinxelo. \nAnímaste? \nActividade: taller de xoiaría\nAutora: Adriana Alzate\nMarca: Noga Art´s\nLugar: Mercado Galego da Creatividade\nData: 13 de decembro\nHorario: 16:00 – 20:00 h \nReserva a túa praza aquí  Reservar \n  \n@artesania_de_galicia\n@xuntagalicia \n#creativasgalegas #taller #mercadogalegodacreatividade #santiagodecompostela #artesaniadegalicia #xuntadegalicia
URL:https://creativasgalegas.gal/evento/6766/
CATEGORIES:Talleres
ATTACH;FMTTYPE=image/jpeg:https://creativasgalegas.gal/wp-content/uploads/2021/12/Cartel_Axenda-4.jpg
END:VEVENT
BEGIN:VEVENT
DTSTART;TZID=UTC:20211212T170000
DTEND;TZID=UTC:20211212T190000
DTSTAMP:20260423T073430
CREATED:20211208T101456Z
LAST-MODIFIED:20211208T101456Z
UID:10000070-1639328400-1639335600@creativasgalegas.gal
SUMMARY:Taller de iniciación ao traballo con elos e cadeas _ KHOS
DESCRIPTION:Un taller impartido pola deseñadora Ana da marca KHOS e que nos iniciará na creación das cadeas Bizantina e Romanov. \nVeremos as distintas maneiras de crear\, cortar e manipular arandelas para usalas na creación de cadeas\, ou en outro tipo de creacións. Cos elos que fabriquemos\, aprenderemos a montar a cadea Bizantina e a variante Romanov. O obxectivo final é elaborar o noso propio colgante para levar ás nosas casas. \nNon se require experiencia previa aínda que tamén é un taller interesante para artesás que queren ampliar os seus coñecementos na trama de elos e na elaboración de cadeas. \nEsperámoste! \nActividade: taller de iniciación ao traballo con elos e cadeas\nAutora: Ana Vidal\nMarca: KHOS\nLugar: Mercado Galego da Creatividade\nData: 12 de decembro\nHorario: 17:00 – 19:00 h \nReserva a túa praza aquí Reservar \n  \n@xuntagalicia\n@artesania_de_galicia\n@_xacobeo2021 \n#creativasgalegas #taller #mercadogalegodacreatividade #artesania #feitoaman #santiagodecompostea \n 
URL:https://creativasgalegas.gal/evento/iniciacion-o-traballo-con-elos-e-cadeas/
CATEGORIES:Talleres
ATTACH;FMTTYPE=image/jpeg:https://creativasgalegas.gal/wp-content/uploads/2021/12/Cartel_Axenda.jpg
END:VEVENT
BEGIN:VEVENT
DTSTART;TZID=UTC:20211212T110000
DTEND;TZID=UTC:20211212T130000
DTSTAMP:20260423T073430
CREATED:20211208T095451Z
LAST-MODIFIED:20211208T095451Z
UID:10000068-1639306800-1639314000@creativasgalegas.gal
SUMMARY:Taller de creación de cubi-xoguetes de madeira _ KHOS
DESCRIPTION:Este taller de Ana\, de KHOS estudio\, vai dirixido a nenos de entre 6 e 14 anos. \nCrearemos divertidos xoguetes usando bloques de madeira de distintos formatos e dimensións. Para darlle a pincelada final\, pintaremos as pezas con pintura decorativa á auga. \nAparte de sacar o noso lado mais creativo\, levaremos para a casa un xoguete único e especial. \nActividade: taller de creación de cubi-xoguetes de madeira\nAutora: Ana Vidal\nMarca: KHOS\nLugar: Mercado Galego da Creatividade\nData: 12 de decembro\nHorario: 11:00 – 13:00 h\nRecomendación: levar un mandil ou unha camiseta vella. \nMerca o teu taller aquí  Mercar \n  \n@xuntagalicia\n@artesania_de_galicia\n@xacobeo2021_22 \n#creativasgalegas #mercadogalegodacreatividade #santiagodecompostela #taller #nenos #nenas #nadal #navidad
URL:https://creativasgalegas.gal/evento/taller-creacion-de-cubi-xoguetes-de-madeira/
CATEGORIES:Talleres
ATTACH;FMTTYPE=image/jpeg:https://creativasgalegas.gal/wp-content/uploads/2021/12/Cartel_Axenda-1.jpg-2-1.jpg
END:VEVENT
BEGIN:VEVENT
DTSTART;TZID=UTC:20211211T170000
DTEND;TZID=UTC:20211211T190000
DTSTAMP:20260423T073430
CREATED:20211208T095056Z
LAST-MODIFIED:20211208T095056Z
UID:10000066-1639242000-1639249200@creativasgalegas.gal
SUMMARY:Taller de creación de adornos de Nadal con arxila _ KHOS
DESCRIPTION:A deseñadora gráfica e deseñadora de espazos Ana\, podemos atopala baixo a marca KHOS. \nEsta creativa organiza  un taller pensando nos mais pequenos e pequenas da casa. Así que si tes entre 6 e 14 anos\, animámoste a inscribirte nesta actividade de creación de elementos decorativos. \nEmpregaremos moldes de arxila branca e crearemos bonecos de neve\, galletas de xenxibre\, bastóns… Unha vez rematados pintaremos con pintura decorativa á auga as nosas obras. \nQue pode lucir mais nos nosos fogares que un adorno feito coas propias mans dos mais pequenos e pequenas da casa…! \nActividade: taller de creación de adornos de Nadal con moldes de arxila\nAutora: Ana Vidal\nMarca: KHOS\nLugar: Mercado Galego da Creatividade\nData: 11 de decembro\nHorario: 17:00 – 19:00 h\nRecomendación: levar un mandil ou unha camiseta vella. \nPrezo do taller: 25€ (inclúe os materiais necesarios)\n \nMerca o taller aquí \n  \n@xuntagalicia\n@artesania_de_galicia\n@xacobeo2021_22 \n#taller #estampacion #creativasgalegas #mercadogalegodacreatividade #santiagodecompostela #artesanos #artesaniadegalicia #xuntadegalicia #xacobeo21-22 \n 
URL:https://creativasgalegas.gal/evento/taller-de-creacion-de-adornos-de-nadal-con-moldes-de-arcilla/
CATEGORIES:Talleres
ATTACH;FMTTYPE=image/jpeg:https://creativasgalegas.gal/wp-content/uploads/2021/12/Cartel_Axenda-1.jpg-1.jpg
END:VEVENT
BEGIN:VEVENT
DTSTART;TZID=UTC:20211211T113000
DTEND;TZID=UTC:20211211T133000
DTSTAMP:20260423T073430
CREATED:20211208T094143Z
LAST-MODIFIED:20211208T094143Z
UID:10000064-1639222200-1639229400@creativasgalegas.gal
SUMMARY:Taller para pequenos orfebres _ Brigantia orfebres
DESCRIPTION:Para os mais pequenos e pequenas\, e os que xa non o son tanto\, temos este taller de ourivaría. \nNuria e Yesenia son as encargadas de levar a cabo este obradoiro de xoiaría creada a partir de obxectos reciclados. Seguimos no Nadal e as nosas compañeiras de Brigantia orfebres queren axudarnos a crear xoias para agasallar nestas datas. Xoias únicas como colgantes\, pulseiras\, pendentes…\, que podemos facer coas nosas mans a partir de cristais\, cunchas e arame\, entre outros moitos obxectos que reciclamos. \nNeste taller os nosos orfebres coñecerán as distintas ferramentas empregadas neste oficio e verán unha pequena demostración do seu funcionamento. \nActividade: taller de ourivaría\nAutoras: Nuria Prado e Yesenia Guerrero\nMarca: Brigantia orfebres\nLugar: Mercado Galego da Creatividade\nData: 11 de decembro\nHorario: 11:30 – 13:30 h \nReserva a túa praza aquí \n  \n@xuntagalicia\n@artesania_de_galicia\n@xacobeo2021_22 \n#creativasgalegas #mercadogalegodacreatividade #creatividade #creatividad #santiagodecompostelo #artesaniadegalicia
URL:https://creativasgalegas.gal/evento/6686/
CATEGORIES:Talleres
ATTACH;FMTTYPE=image/jpeg:https://creativasgalegas.gal/wp-content/uploads/2021/12/Cartel_Axenda-2.jpg
END:VEVENT
BEGIN:VEVENT
DTSTART;TZID=UTC:20211210T173000
DTEND;TZID=UTC:20211210T193000
DTSTAMP:20260423T073430
CREATED:20211208T095302Z
LAST-MODIFIED:20211208T095302Z
UID:10000067-1639157400-1639164600@creativasgalegas.gal
SUMMARY:Taller de esmaltado de vidro _ Tejeluz
DESCRIPTION:E seguimos con talleres neste Nadal. Desta volta o taller vén da man de Juan da marca Tejeluz. \nImos crear obras únicas debuxando e esmaltando fragmentos de vidro reciclado. Levaremos para a casa a nosa propia vidreira\, con un deseño pensado\, creado e esmaltado por nós mesmos/as. Pezas personalizadas\, feitas con agarimo e dedicación que poden ser un agasallo moi\, moi especial para un ser querido. \nApúntaste a crear unha? \nActividade: taller de esmaltado de vidro\nAutor: Juan Fuente\nMarca: Tejeluz\nLugar: Mercado Galego da Creatividade\nData: 10 de decembro\nHorario: 17:30 – 19:30 h \nReserva a túa praza aquí \n  \n@xuntagalicia\n@artesania_de_galicia\n@xacobeo2021_22 \n#creativasgalegas #mercadogalegodacreatividade #creatividade #creatividad #santiagodecompostela #artesaniadegalicia \n 
URL:https://creativasgalegas.gal/evento/taller-esmaltado-de-vidro/
CATEGORIES:Talleres
ATTACH;FMTTYPE=image/jpeg:https://creativasgalegas.gal/wp-content/uploads/2021/12/Cartel_Axenda-1.jpg-1-1.jpg
END:VEVENT
BEGIN:VEVENT
DTSTART;TZID=UTC:20211208T173000
DTEND;TZID=UTC:20211208T193000
DTSTAMP:20260423T073430
CREATED:20211204T092310Z
LAST-MODIFIED:20211204T092310Z
UID:10000063-1638984600-1638991800@creativasgalegas.gal
SUMMARY:Taller de estampación sobre papel _ amorote printing workshop
DESCRIPTION:Sandra\, de amorote printing workshop\, agasállanos este Nadal cun taller de estampación block printing sobre papel. \nPoden participar nenos a partir de 6 anos e tamén adultos. Aprenderemos a personalizar un caderno kraft con diferentes tipos de tinta\, e motivos. Non sei ti pero… por aquí\, xa estamos pensando a quen agasallar con ese caderno personalizado. \nApúntaste á facer un? \nActividade: taller de estampación block printing en papel\nAutora: Sandra de Rego\nMarca: amorote printing workshop\nLugar: Mercado Galego da Creatividade\nData: 8 de decembro\nHorario: 17:30 – 18:30 h ou 18:30 – 19:30 h\n10 prazas / quenda \nReserva a túa praza aquí \n  \n@xuntagalicia\n@artesania_de_galicia\n@xacobeo2021_22 \n#taller #estampacion #creativasgalegas #mercadogalegodacreatividade #santiagodecompostela #artesanos #artesaniadegalicia #xuntadegalicia #xacobeo21-22 \n 
URL:https://creativasgalegas.gal/evento/estampacion-block-printing-en-papel/
CATEGORIES:Talleres
ATTACH;FMTTYPE=image/jpeg:https://creativasgalegas.gal/wp-content/uploads/2021/12/Cartel_estampacion.jpg
END:VEVENT
BEGIN:VEVENT
DTSTART;TZID=UTC:20211204T170000
DTEND;TZID=UTC:20211204T190000
DTSTAMP:20260423T073430
CREATED:20211202T084215Z
LAST-MODIFIED:20211202T084215Z
UID:10000061-1638637200-1638644400@creativasgalegas.gal
SUMMARY:Taller de creación de adornos de Nadal _ Lorena Romero
DESCRIPTION:A nosa compañeira Lorena é unha profesional do deseño de interiores. Esta creativas é a fundadora de Lorena Romero interior design + home staging\, unha empresa que ten como obxectivo facer dos nosos espazos\, un verdadeiro fogar. \nSe algo define a Lorena é a delicadeza e a elegancia coa que fai todo o que pasa polas súas mans. Como defensora da idea de que as pezas que facemos coas nosas propias mans teñen un valor inigualable\, quere agasallarnos con este taller. Imos aprender a facer os adornos cos que decorar a nosa árbore de Nadal\, para que sexa única\, represente as cores que nós nos gustan e luza coma ningunha outra. \nActividade: taller de adornos de Nadal\nAutora: Lorena Romero\nMarca: Lorena Romero interior design + home staging\nLugar: Mercado Galego da Creatividade\nData: 4 de decembro\nHorario: 17:00 – 19:00 h \nPrezo do taller: 25€ (inclúe os materiais necesarios)\n \nMerca o taller aquí
URL:https://creativasgalegas.gal/evento/taller-de-adornos-de-nadal/
CATEGORIES:Talleres
ATTACH;FMTTYPE=image/jpeg:https://creativasgalegas.gal/wp-content/uploads/2021/12/cartel_axenda2.jpg
END:VEVENT
END:VCALENDAR