BEGIN:VCALENDAR
VERSION:2.0
PRODID:-//Creativas Galegas - ECPv6.3.3.1//NONSGML v1.0//EN
CALSCALE:GREGORIAN
METHOD:PUBLISH
X-WR-CALNAME:Creativas Galegas
X-ORIGINAL-URL:https://creativasgalegas.gal
X-WR-CALDESC:Events for Creativas Galegas
REFRESH-INTERVAL;VALUE=DURATION:PT1H
X-Robots-Tag:noindex
X-PUBLISHED-TTL:PT1H
BEGIN:VTIMEZONE
TZID:Europe/Madrid
BEGIN:DAYLIGHT
TZOFFSETFROM:+0100
TZOFFSETTO:+0200
TZNAME:CEST
DTSTART:20250330T010000
END:DAYLIGHT
BEGIN:STANDARD
TZOFFSETFROM:+0200
TZOFFSETTO:+0100
TZNAME:CET
DTSTART:20251026T010000
END:STANDARD
BEGIN:DAYLIGHT
TZOFFSETFROM:+0100
TZOFFSETTO:+0200
TZNAME:CEST
DTSTART:20260329T010000
END:DAYLIGHT
BEGIN:STANDARD
TZOFFSETFROM:+0200
TZOFFSETTO:+0100
TZNAME:CET
DTSTART:20261025T010000
END:STANDARD
END:VTIMEZONE
BEGIN:VEVENT
DTSTART;TZID=Europe/Madrid:20250901T173000
DTEND;TZID=Europe/Madrid:20260731T193000
DTSTAMP:20260422T194458
CREATED:20240403T185022Z
LAST-MODIFIED:20250829T191033Z
UID:10000168-1756747800-1785526200@creativasgalegas.gal
SUMMARY:Taller de calceta _ La con agarimo
DESCRIPTION:Gustaríache aprender a calcetar? \nQuizais evolucionar sobre a base que xa tes? \nOu facer unha peza determinada e necesitas axuda para eses puntos que se che resisten? \nSexan  cales sexan as túas razóns\, esperámoste no taller de calceta con Desi de La con Agarimo. \n  \nElixe o grupo que mellor che encaixa: \n\nGrupo de MARTES / Grupo de XOVES /  Grupo de VENRES.\n\n  \nActividade: Taller de calceta\nFormadora: Desiree Díaz\nMarca: La con Agarimo\nLugar: Mercado Galego da Creatividade\nHorario: 17:30 – 19:30 h\nCusto do taller: 40 € / mes \nReserva a túa praza aquí: 605 14 12 41 \n  \nCoñece o traballo de Desi:\nInstagram: @laconagarimo
URL:https://creativasgalegas.gal/evento/taller-de-iniciacion-a-calceta-con-agullas-_-la-con-agarimo/
CATEGORIES:Talleres
ATTACH;FMTTYPE=image/jpeg:https://creativasgalegas.gal/wp-content/uploads/2024/04/Taller-web-.jpg
END:VEVENT
BEGIN:VEVENT
DTSTART;TZID=Europe/Madrid:20260409T160000
DTEND;TZID=Europe/Madrid:20260409T180000
DTSTAMP:20260422T194458
CREATED:20260328T093039Z
LAST-MODIFIED:20260327T124332Z
UID:10000313-1775750400-1775757600@creativasgalegas.gal
SUMMARY:⭐ Actividade dos Días Europeos da Artesanía ⭐  ELABORACIÓN DUN ANEL EN PRATA · COLECCIÓN “ESPUMA DE MAR”
DESCRIPTION:ELABORACIÓN DUN ANEL EN PRATA · COLECCIÓN “ESPUMA DE MAR” \nDurante os Días Europeos da Artesanía recibimos no Mercado Galego da Creatividade a Sonia Arnaiz\, que nos achegará ao proceso artesanal da creación dunha peza de ourivería. \nNeste obradoiro participaremos no proceso de elaboración dun anel en prata 925 inspirado na colección “Espuma de Mar”. Traballaremos o metal de forma manual\, dándolle forma e creando volume mediante pequenas esferas fundidas de prata\, empregando as ferramentas propias dun taller de ourivería. \nUnha experiencia para coñecer de preto o oficio ourive\, onde técnica\, precisión e sensibilidade se poñen ao servizo do deseño para dar lugar a unha peza única feita coas propias mans. \n📌 INFORMACIÓN DA ACTIVIDADE\n ▫️ Data: Xoves 9 de abril\n ▫️ Horario: 16:00 – 18:00 h ou 18:00 – 20:00 h\n ▫️ Lugar: Mercado Galego da Creatividade (Santiago de Compostela)\n ▫️ Idade: A partir de 18 anos\n ▫️ Inscricións: 605 14 12 41 \nUnha actividade patrocinada por @artesania_de_galicia e @xuntadegalicia dentro do marco dos Días Europeos da Artesanía\, unha iniciativa promovida por @eoischool e a súa área de promoción da artesanía @fundesarte\, xunto a @oficioyarte e @jemaofficiel. \n🔶 Cartel e texto: @amoroteuestampaxeartesanal \n#creativasgalegas #mercadogalegodacreatividade #marcascreativas #compostela #santiagodecompostela #galicia #artesaniadegalicia #xuntadegalicia #diaseuropeosdaartesanía #díasdaartesanía #oficios #metiersdart #europeancraftdays #fundesarte #culture #savoirfaire #JEMA2026 #artesaniaespañola #ourivería #oficiostradicionais #soniaarnaiz ✨
URL:https://creativasgalegas.gal/evento/%e2%ad%90-actividade-dos-dias-europeos-da-artesania-%e2%ad%90-elaboracion-dun-anel-en-prata-%c2%b7-coleccion-espuma-de-mar/
CATEGORIES:Talleres
ATTACH;FMTTYPE=image/png:https://creativasgalegas.gal/wp-content/uploads/2026/03/Cartel_Dias_Europeos_Sonia_Arnaiz.png
END:VEVENT
END:VCALENDAR